BEGIN:VCALENDAR
VERSION:2.0
PRODID:-//Metwabe - Einfach guter Met | Met-Honigwein-Shop - ECPv6.15.20//NONSGML v1.0//EN
CALSCALE:GREGORIAN
METHOD:PUBLISH
X-WR-CALNAME:Metwabe - Einfach guter Met | Met-Honigwein-Shop
X-ORIGINAL-URL:https://metwabe.eu
X-WR-CALDESC:Veranstaltungen für Metwabe - Einfach guter Met | Met-Honigwein-Shop
REFRESH-INTERVAL;VALUE=DURATION:PT1H
X-Robots-Tag:noindex
X-PUBLISHED-TTL:PT1H
BEGIN:VTIMEZONE
TZID:Europe/Berlin
BEGIN:DAYLIGHT
TZOFFSETFROM:+0100
TZOFFSETTO:+0200
TZNAME:CEST
DTSTART:20250330T010000
END:DAYLIGHT
BEGIN:STANDARD
TZOFFSETFROM:+0200
TZOFFSETTO:+0100
TZNAME:CET
DTSTART:20251026T010000
END:STANDARD
BEGIN:DAYLIGHT
TZOFFSETFROM:+0100
TZOFFSETTO:+0200
TZNAME:CEST
DTSTART:20260329T010000
END:DAYLIGHT
BEGIN:STANDARD
TZOFFSETFROM:+0200
TZOFFSETTO:+0100
TZNAME:CET
DTSTART:20261025T010000
END:STANDARD
BEGIN:DAYLIGHT
TZOFFSETFROM:+0100
TZOFFSETTO:+0200
TZNAME:CEST
DTSTART:20270328T010000
END:DAYLIGHT
BEGIN:STANDARD
TZOFFSETFROM:+0200
TZOFFSETTO:+0100
TZNAME:CET
DTSTART:20271031T010000
END:STANDARD
END:VTIMEZONE
BEGIN:VEVENT
DTSTART;VALUE=DATE:20260127
DTEND;VALUE=DATE:20260202
DTSTAMP:20260422T103823
CREATED:20251217T114823Z
LAST-MODIFIED:20251217T115955Z
UID:3666-1769472000-1769990399@metwabe.eu
SUMMARY:Jagd und Hund 2026
DESCRIPTION:JAGD & HUND 2026\nEuropas führendes Jagderlebnis in Dortmund\nDie Jagd & Hund 2026 ist Europas größtes Jagdevent und lockt vom 28. Januar bis 2. Februar 2026 wieder tausende Jäger\, Naturfreunde und Outdoor-Fans in die Messe Dortmund. Die Messe bietet ein außergewöhnliches Erlebnis\, bei dem Tradition\, Fachwissen und moderne Jagdkultur aufeinandertreffen und macht von Beginn an deutlich\, worum es geht: die ganze Vielfalt der Jagd und Natur. \nQuelle: Messe Dortmund\nInternationale Aussteller auf der Messe\nÜber 36 Nationen präsentieren aktuelle Trends\, handwerkliche Qualität und weltweite Jagdreviere. Ob Hightech-Ausrüstung\, traditionelle Jagdkultur oder internationale Anbieter die Jagd & Hund 2026 vereint alles an einem Ort. \nKNIFE ZONE – Die Welt der Klingen\nEin Highlight ist die KNIFE ZONE\, in der Messermacher und Schmiede ihre neuesten Jagd- und Outdoormesser vorstellen. Ergänzt wird der Bereich durch Fachvorträge\, Live-Demonstrationen und Expertise des Deutschen Klingenmuseums Solingen. \nAusrüstung & Outdoor auf der Jagd & Hund 2026\nVon Bekleidung über Optiken bis hin zu Outdoor-Equipment\, Dachzelten und Hundebedarf bietet die Messe alles\, was Jäger und Naturbegeisterte brauchen\, inklusive Beratung und Testmöglichkeiten direkt vor Ort. \nMetwabe & Genuss\, Tradition und Handwerkskunst\nEin besonderer Bestandteil im Genussbereich der Messe ist die Metwabe\, die seit vielen Jahren fester Aussteller auf der Jagd & Hund ist. Ihr Stand hat sich über die Zeit zu einem beliebten Treffpunkt für Besucher entwickelt\, die hochwertige Honigweine schätzen oder die Welt des Mets neu entdecken möchten. \nDie Metwabe präsentiert eine breite Auswahl an Sorten\, von klassischem\, traditionell hergestelltem Met bis hin zu kreativen\, aromatisierten Varianten. Besucher können sich ausführlich beraten lassen. Hintergründe zur Herstellung erfahren und selbstverständlich direkt vor Ort probieren.Ob fruchtig\, würzig oder lieblich: Die Vielfalt der Metwabe bietet für jeden Geschmack das passende Aroma und verbindet Genuss mit dem Gefühl ursprünglicher Naturverbundenheit. Genau diese Mischung macht den Stand zu einem der Highlights im kulinarischen Bereich der Messe. \nWILD FOOD FESTIVAL auf der Jagd & Hund 2026 – Kulinarische Höhepunkte\nQuelle: Messe Dortmund\nDas WILD FOOD FESTIVAL sorgt für kulinarische Höhepunkte. Renommierte Köche präsentieren ihre Fähigkeiten live auf der Bühne\, während Workshops und Delikatessen die Besucher in die Welt der Wildküche eintauchen lassen. \nWissen & Wildtierschutz: Starke Partner auf der MesseJagd & Hund 2026\nWichtige Akteure der Jagdszene sind ebenfalls vertreten: \n\n\nLJV NRW informiert über nachhaltige Jagd\, Artenschutz und Bildung. \n\n\nJGHV zeigt beeindruckende Vorführungen zur Arbeit von Jagdgebrauchshunden. \n\n\nOrden Deutscher Falkoniere bringt Greifvögel und die Kunst der Falknerei auf die Bühne. \n\n\nAlle tragen dazu bei\, die Messe zu einem wertvollen Wissensort zu machen. \nAction & Erlebniswelten auf der Jagd & Hund 2026\nActionreich wird es im 4×4 Revier\, wo Besucher Geländewagen auf einem anspruchsvollen Parcours erleben können.In der HORRIDO Social Media Area warten bekannte Creator der Jagdszene mit Talks\, Vorführungen und Filmpremieren auf die Community. \nWettbewerbe & Erlebnisse für die ganze Familie\nQuelle: Messe Dortmund\nDie Jagd & Hund 2026 bietet zahlreiche Wettbewerbe wie: \nDeutsche Meisterschaft der Hirschrufer \nCalling Contest für Niederwild \nKIDZ FIEP Weltmeisterschaft \nFür Kinder gibt es zusätzlich die beliebte WuH-Kids Messe-Rallye. Spaß für die ganze Familie. \nFISCH & ANGEL – Der Angeltreffpunkt in Dortmund\nAuch Angler kommen auf der Jagd & Hund 2026 im Bereich FISCH & ANGEL voll auf ihre Kosten. Vorführungen\, Workshops und aktuelles Equipment bieten Inspiration für Einsteiger und Profis. \nMasterclasses auf der Jagd & Hund 2026 \nExklusiv buchbare Masterclasses vermitteln Expertenwissen zu Themen wie: \n\n\nErste Hilfe am Jagdhund \n\n\nPirsch- und Nachtjagdtechniken \n\n\nDrohneneinsatz \n\n\nFotografie \n\n\nPräzisionsschießen \n\n\nFazit: Ein umfassendes Messeerlebnis\nDie Jagd & Hund 2026 bietet Begeisterung\, Fachwissen\, Tradition und moderne Jagdkultur und bleibt damit das führende Jagderlebnis Europas. \nZu den Tickets           >> Tickets << \nZum Metwabeshop     >> Metwabe <<
URL:https://metwabe.eu/event/https-www-jagdundhund-de
LOCATION:Westfalenhallen Dortmund\, Messe Dortmund\, Dortmund\, 44139
CATEGORIES:2025
ATTACH;FMTTYPE=image/jpeg:https://metwabe.eu/wp-content/uploads/2025/12/JH_Logo_JagdHund.jpg
ORGANIZER;CN="Westfalenhallen Unternehmensgruppe GmbH":MAILTO:medien@westfalenhallen.de
END:VEVENT
BEGIN:VEVENT
DTSTART;VALUE=DATE:20260131
DTEND;VALUE=DATE:20260202
DTSTAMP:20260422T103823
CREATED:20260108T104948Z
LAST-MODIFIED:20260121T130752Z
UID:3703-1769817600-1769990399@metwabe.eu
SUMMARY:MAG-C 2026
DESCRIPTION:MAG-C 2026\nManga\, Anime & Gaming Convention\nAm 31. Januar und 1. Februar 2026 öffnet die MAG-C 2026 erneut ihre Tore und verwandelt die Hallen in einen Treffpunkt für Fans \nQuelle: Messe Erfurt\nvon Anime\, Manga\, Cosplay\, Gaming und Popkultur. \nDie Convention steht für Vielfalt\, Kreativität und Community. \nZwei Tage voller Shows\, Games\, Kunst und unvergesslicher Erlebnisse erwarten euch. \nHighlights & Programm\nCosplay auf der großen Bühne\nDie MAG-C 2026 bietet gleich zwei große Cosplay-Formate\, die sowohl Wettbewerbslustige als auch Bühnenliebhaber begeistern. \nCosplay Championship – 31. Januar 2026 \nStellt euer Können unter Beweis\, präsentiert euer Cosplay vor Publikum und stellt euch dem Urteil einer internationalen Jury: \n\nTaryn Cosplay\nLittle Miss Blueberry\nTimber Cosplay\n\nQuelle: Messe Erfurt\nCosplay Showcup – 1. Februar 2026Die perfekte Bühne für alle\, die ihr Cosplay ohne Wettbewerbsdruck präsentieren möchten – mit Leidenschaft\, Spaß und Publikumsbegeisterung. \nJury: \n\nUsagichii\nColdscream Cosplay\nKaddi Cosplay\n\nIndie Games & Gaming-Erlebnisse\nIndie Area – sponsored by ByteRockers\nIn Halle 2 erwartet euch die Indie Area mit einer beeindruckenden Auswahl kreativer Spiele. Von gemütlichen Adventures über Strategie bis hin zu actiongeladenen Bullet-Hell-Games – hier zeigt sich die ganze Vielfalt der Indie-Szene. \nBesucher können neue Titel anspielen\, direkt mit den Entwickler:innen sprechen und einzigartige Spielwelten entdecken. Mit dabei sind unter anderem: \nQuelle: Messe Erfurt\n\nGarden Ink – Kranich Games\nStunt Boost – byting Games\nGlintseeker Island – Half Soup Labs\nRECUR – kaleidoscube\nWarding Witches – Sonorode\nTiny Bookshop – neoludic\nMAP MAP – Pipapo Games\n\nZusätzlich warten Retro & Arcade Area\, originale Automaten\, Turniere und Nostalgie pur auf euch.\nMetwabe\nIn Halle 3 der MAG-C 2026 wartet ein besonderes Highlight auf euch: die Metwabe mit einer großen Auswahl an Honigweinen\, von klassisch-mild über fruchtig bis hin zu exotisch-würzig. Ihr findet den Stand\, wenn ihr den rechten Eingang des Foyers von Halle 3 nehmt und geradeaus bis zum letzten Drittel der Halle geht. \nDie Metwabe lädt dazu ein\, neue Sorten zu entdecken und zu genießen. Ein Abstecher lohnt sich auf jeden Fall! \nLaser Limbo & Action\nErlebt mit Laser Limbo ein brandheißes AR-Erlebnis! Auf großer Fläche könnt ihr euch in einem lasertag-ähnlichen Shooter messen und gemeinsam mit Freunden verschiedene Spielmodi ausprobieren. \nAnime Kino 2026\nAuch 2026 wird Halle 2 wieder zum Treffpunkt für Anime-Fans. Das Anime Kino bietet ausgewählte Film- und Serienhighlights\, begleitet von einem modernen Silent-Kopfhörer-System für kristallklaren Sound und ungestörtes Filmerlebnis. \nQuelle: Messe Erfurt\nK-Pop\, Dance & Showacts\nMit MakschiBoo & Celestient wird die MAG-C zum Dancefloor. Euch erwarten energiegeladene K-Pop Workshops\, Random Dance Sessions\, Choreos zu bekannten Acts wie Stray Kids sowie beeindruckende Bühnen-Shows und Performances in der Halle. \nArtist Area – Kreativität entdecken\nIn Halle 3 präsentieren über 50 Künstler ihre Werke. Von detailreichen Illustrationen über Fanart bis hin zu einzigartigen Designs. Die Artist Area lädt zum Staunen\, Shoppen und Vernetzen ein. \nMit dabei sind unter anderem:Airi chan ART\, AlexBrushes\, Alina Winterberg\, Ami Amalie\, Annichuu\, Arexiion\, Ars Fantasio\, Art of Chinara\, Beautiful Souls Art\, BeMonstrous\, cemozancetintas\, Chen Long Chung\, ChiljasArtShop\, Dinchenix\, Felix Oesinghaus\, Franzilikum\, Gren Art\, HOPYRION\, Jolis Pokéstop\, JuliArtWorld\, Katzenjammerpins\, KRIESP\, Kunstgalerie Martens und viele mehr. \n\nManga & Merch Area\nIn der Manga & Merch Area erwartet euch ein wahres Paradies: brandneue Releases\, zeitlose Klassiker und exklusives Merchandise. Von Figuren über Poster bis hin zu limitierten Sammlerstücken. \nRahmenbedingungen & Besucherinfos\nDatum: 31. Januar – 1. Februar 2026Ort: MAG-C Convention GeländeHighlights: Cosplay-Wettbewerbe\, Indie Games\, Retro & Arcade\, Artist Area\, Anime Kino\, K-Pop & Shows \nFamilienfreundliche Convention\nDie MAG-C 2026 bietet eine offene\, sichere und einladende Atmosphäre für alle Altersgruppen. Egal ob Cosplay-Neuling\, Gaming-Fan\, Kunstliebhaber oder Familie – hier findet jede*r seinen Platz und ein Wochenende voller Inspiration\, Spaß und Community. \nZu den Tickets            >> MAG-C <<\nZum Metwabeshop     >> Metwabe <<
URL:https://metwabe.eu/event/https-www-mag-c-de-gad_source1gad_campaignid23353947598gbraid0aaaaad7xkwzhl5eher6jo7yjf27bjig1ngclidcj0kcqiaxonkbhc1arisaihq_lvsmgawgvuqc-ghkq6uigx_pn2x8-9mk3mucqcougo-ykrmgafy52waatqlealw_w
LOCATION:Messe Erfurt\, Gothaer Straße 34\, Erfurt\, 99094
CATEGORIES:2025
ATTACH;FMTTYPE=image/jpeg:https://metwabe.eu/wp-content/uploads/2026/01/MAG-C_2022.jpg
ORGANIZER;CN="Messe Erfurt GmbH":MAILTO:info@messe-erfurt.de
END:VEVENT
BEGIN:VEVENT
DTSTART;VALUE=DATE:20260221
DTEND;VALUE=DATE:20260223
DTSTAMP:20260422T103823
CREATED:20260210T084500Z
LAST-MODIFIED:20260210T123201Z
UID:3742-1771632000-1771804799@metwabe.eu
SUMMARY:DoCon 2026  Cosplay\, Star Wars & Sci-Fi in Bergkamen erleben
DESCRIPTION:Do Con 2026\nAm 21. und 22. Februar 2026 verwandelt sich das Stadtmuseum Bergkamen in einen Treffpunkt für Science-Fiction-Fans: Die DoCon 2026 lädt Cosplayer*innen\, Filmbegeisterte sowie Freund*innen fantastischer Welten zu einem besonderen Wochenende ein. Als von Fans organisierte Cosplay-Convention bildet die DoCon 2026 zugleich den krönenden Abschluss der „Interstellaren Erlebnisausstellung“ und bietet damit ein Erlebnis für alle Generationen und Interessensgruppen. Sie steht ganz unter dem Motto: „It’s nice to be different.“ \nBereits zum zweiten Mal kommt die Science-Fiction-Community zusammen\, um kreative Kostüme zu präsentieren\, Gleichgesinnte zu treffen und sich auszutauschen während gemeinsam in ferne Galaxien eingetaucht wird. Ob Star Wars\, Stargate oder postapokalyptische Szenarien\, die DoCon 2026 heißt Fans aller Genres herzlich willkommen und schafft gleichzeitig eine offene Atmosphäre für Neueinsteiger*innen. Der Eintritt erfolgt auf Spendenbasis und ermöglicht somit allen Interessierten eine unkomplizierte Teilnahme. \nHighlights & Programm der DoCon 2026\nQuelle: Star Wars Fans Dortmund e.V.\nFreut euch auf ein Wochenende voller Cosplay-Aktionen\, Fotomöglichkeiten sowie unvergesslicher Fan-Momente. Besonders die begleitende Star-Wars-Sonderausstellung sorgt für zusätzliche Atmosphäre und erweitert zugleich das Erlebnis für Besucher*innen jeden Alters. \nDie DoCon 2026 lebt vom Engagement ihrer Community: Kostümierte Teilnehmer*innen\, kreative Darstellungen und spontane Aktionen machen den besonderen Charme dieser Convention aus. Egal\, ob ihr selbst im Cosplay erscheint oder einfach die detailreichen Outfits bestaunen möchtet\, Unterhaltung ist garantiert und Langeweile ausgeschlossen. \nAuch kulinarisch hat die Convention etwas zu bieten: Die Metwabe ist mit ihrem Stand vor Ort vertreten und lädt dich nicht nur zum Entdecken\, sondern auch zum Probieren verschiedener Sorten Honigwein ein. Von klassisch bis außergewöhnlich ist für nahezu jeden Geschmack etwas dabei\, sodass Besucher*innen die Möglichkeit haben\, unterschiedliche Geschmacksrichtungen zu testen und anschließend ihren persönlichen Favoriten zu finden. Ein perfekter Zwischenstopp für alle\, die ihr Convention-Erlebnis mit einer besonderen Spezialität abrunden möchten. \nRahmenbedingungen & Besucherinfos\nDatum: 21.–22. Februar 2026 (Samstag & Sonntag)Uhrzeit: jeweils 10:00 – 17:00 UhrOrt: Stadtmuseum Bergkamen\, Jahnstraße 31\, 59192 BergkamenEintritt: frei (Spendenbasis) \n DoCon 2026 in Bergkamen – Veranstalter und Location\nOrganisiert wird die DoCon 2.0 von den Star Wars Fans Dortmund e.V.\, die mit viel Leidenschaft ein Event von Fans für Fans auf die mit viel Leidenschaft ein Event von Fans für Fans auf die Beine stellen und dabei großen Wert auf Gemeinschaft legen. Das Stadtmuseum Bergkamen bietet dabei die passende Kulisse für ein familiäres und zugleich inspirierendes Convention-Erlebnis. \nEin Treffpunkt für die Sci-Fi-Community\nDie DoCon 2.0 richtet sich an alle\, die ihre Begeisterung für Science Fiction teilen möchten\, ganz gleich\, ob langjährige Fans oder neugierige Neueinsteiger. Die offene Atmosphäre\, das gemeinsame Hobby sowie die kreative Vielfalt sorgen für ein Wochenende voller Begegnungen und schaffen gleichzeitig unvergesslicher Eindrücke. \nZu den Tickets                >> DoCon <<\nZum Metwabeshop     >> Metwabe <<
URL:https://metwabe.eu/event/docon-2026-cosplay-star-wars-sci-fi-in-bergkamen-erleben
LOCATION:DoCon\, Jahnstraße 31\, Bergkamen\, 59192
ATTACH;FMTTYPE=image/jpeg:https://metwabe.eu/wp-content/uploads/2026/02/FB_IMG_1769077514987.jpg
ORGANIZER;CN="Star Wars Fans Dortmund e.V.":MAILTO:info@docon.events
END:VEVENT
END:VCALENDAR